BEGIN:VCALENDAR
VERSION:2.0
PRODID:-//ChamberMaster//Event Calendar 2.0//EN
METHOD:PUBLISH
X-PUBLISHED-TTL:P3D
REFRESH-INTERVAL:P3D
CALSCALE:GREGORIAN
BEGIN:VEVENT
DTSTART:20210928T230000Z
DTEND:20210929T030000Z
X-MICROSOFT-CDO-ALLDAYEVENT:FALSE
SUMMARY:TRIVIA Tuesday at the Star Bar
DESCRIPTION:TRIVIA! \n\nCome out to the Star Bar inside Ultra Star\, and enjoy some friendly competition! Each week we have hosted Trivia! Prizes will be awarded to the TOP 3 Winners!
X-ALT-DESC;FMTTYPE=text/html:TRIVIA!&nbsp\;<br />\nCome out to the Star Bar inside Ultra Star\, and enjoy some friendly competition! Each week we have hosted Trivia! Prizes will be awarded to the TOP 3 Winners!
LOCATION:Ultra Star
UID:e.1140.63691
SEQUENCE:3
DTSTAMP:20260425T192627Z
URL:https://business.mountainlovers.com/events/details/trivia-tuesday-at-the-star-bar-09-28-2021-63691
END:VEVENT

END:VCALENDAR
