BEGIN:VCALENDAR
VERSION:2.0
PRODID:-//ChamberMaster//Event Calendar 2.0//EN
METHOD:PUBLISH
X-PUBLISHED-TTL:P3D
REFRESH-INTERVAL:P3D
CALSCALE:GREGORIAN
BEGIN:VEVENT
DTSTART:20251018T140000Z
DTEND:20251018T210000Z
X-MICROSOFT-CDO-ALLDAYEVENT:FALSE
SUMMARY:Harvest Festival
DESCRIPTION:You'll want to attend this Appalachian Cultural festival celebrating all things Fall. With music\, food\, art & crafts vendors\, games\, quilt show\, artisan demonstrations and more\, Stecoah Valley Harvest Festival is family fun you don't want to miss. $5 ADMISSION for ages 18+ ***All admissions support our cultural and educational efforts to preserve and promote Southern Appalachian culture.*** Stecoah Valley Center 121 Schoolhouse Rd Robbinsville\, NC 28771 828-479-3364 programs@stecoahvalleycenter.com Vendors\, please turn in your registration forms via email\, mail\, or in-person.
X-ALT-DESC;FMTTYPE=text/html:You&#39\;ll want to attend this Appalachian Cultural festival celebrating all things Fall. With music\, food\, art &amp\; crafts vendors\, games\, quilt show\, artisan demonstrations and more\, Stecoah Valley Harvest Festival is family fun you don&#39\;t want to miss. $5 ADMISSION for ages 18+ ***All admissions support our cultural and educational efforts to preserve and promote Southern Appalachian culture.*** Stecoah Valley Center 121 Schoolhouse Rd Robbinsville\, NC 28771 828-479-3364 programs@stecoahvalleycenter.com Vendors\, please turn in your registration forms via email\, mail\, or in-person.
LOCATION:Stecoah Valley Center 121 Schoolhouse Rd Robbinsville\, NC 28771
UID:e.1140.70915
SEQUENCE:3
DTSTAMP:20260421T015700Z
URL:https://business.mountainlovers.com/events/details/harvest-festival-10-18-2025-70915
END:VEVENT

END:VCALENDAR
