BEGIN:VCALENDAR
VERSION:2.0
PRODID:-//ChamberMaster//Event Calendar 2.0//EN
METHOD:PUBLISH
X-PUBLISHED-TTL:P3D
REFRESH-INTERVAL:P3D
CALSCALE:GREGORIAN
BEGIN:VEVENT
DTSTART:20190831T200000Z
DTEND:20190831T220000Z
X-MICROSOFT-CDO-ALLDAYEVENT:FALSE
SUMMARY:Volleyball @ Lamar
DESCRIPTION:n/a
X-ALT-DESC;FMTTYPE=text/html:<p>n/a</p>
LOCATION:Athletics Away Games
UID:e.1140.62633
SEQUENCE:3
DTSTAMP:20260424T090255Z
URL:http://business.mountainlovers.com/events/details/volleyball-lamar-62633
END:VEVENT

END:VCALENDAR
