BEGIN:VCALENDAR
VERSION:2.0
PRODID:-//ChamberMaster//Event Calendar 2.0//EN
METHOD:PUBLISH
X-PUBLISHED-TTL:P3D
REFRESH-INTERVAL:P3D
CALSCALE:GREGORIAN
BEGIN:VEVENT
DTSTART:20200918T210000Z
DTEND:20200918T220000Z
X-MICROSOFT-CDO-ALLDAYEVENT:FALSE
SUMMARY:Olivia Kinsey: Flute Recital
DESCRIPTION:Recital
X-ALT-DESC;FMTTYPE=text/html:<p>Recital</p>
LOCATION:Recital Hall - Coulter Building\, Recital Hall - Coulter Building
UID:e.1140.67509
SEQUENCE:3
DTSTAMP:20260420T155817Z
URL:http://business.mountainlovers.com/events/details/olivia-kinsey-flute-recital-67509
END:VEVENT

END:VCALENDAR
