BEGIN:VCALENDAR
VERSION:2.0
PRODID:-//ChamberMaster//Event Calendar 2.0//EN
METHOD:PUBLISH
X-PUBLISHED-TTL:P3D
REFRESH-INTERVAL:P3D
CALSCALE:GREGORIAN
BEGIN:VEVENT
DTSTART:20260411T200000Z
DTEND:20260412T000000Z
X-MICROSOFT-CDO-ALLDAYEVENT:FALSE
SUMMARY:Empty Bowl 2026 - Fundraiser for Community Table
DESCRIPTION:For more than a decade\, the Empty Bowl fundraiser has been a favorite event in our community. Not only do we get to showcase the talent and generosity of our local artisans\, but the people from all over the area get to come together for food\, fellowship\, and in support of a great cause!\n\n \n\nLocal potters and artisans donate their beautiful work to this event\, and patrons pay $30 to come and enjoy fabulous home-cooked soups\, and receive a handmade bowl.\n\n \n\nThe event also features a raffle of locally donated goods\, from gift certificates to crafts and art and books! Donations toward this event are welcome all year long. We so appreciate the support of our community and local artists.\n\n \n\nCome join us for an evening of food & fun!\n\nDate: April 11\, 2026\n\nTime: 4pm-8pm\n\nLocation: Sylva First United Methodist Church\, 77 Jackson St\, Sylva\, NC 28779\n\nCost: $30.00\n\nRaffle Tickets:\n\nIf you're planning on buying LOTS of tickets\, please bring stickers with your name and phone number on them\, or be prepared to write A LOT! (Grin)\n\n  1 for $5.00\n\n  3 for $10.00\n\n  5 for $12.00\n\n  10 for $15.00\n\n  25 for $25.00\n\nSee less
X-ALT-DESC;FMTTYPE=text/html:<div><span dir="auto">For more than a decade\, the Empty Bowl fundraiser has been a favorite event in our community. Not only do we get to showcase the talent and generosity of our local artisans\, but the people from all over the area get to come together for food\, fellowship\, and in support of a great cause!</span><br />\n&nbsp\;</div>\n\n<div><span dir="auto">Local potters and artisans donate their beautiful work to this event\, and patrons pay $30 to come and enjoy fabulous home-cooked soups\, and receive a handmade bowl.</span><br />\n&nbsp\;</div>\n\n<div><span dir="auto">The event also features a raffle of locally donated goods\, from gift certificates to crafts and art and books! Donations toward this event are welcome all year long. We so appreciate the support of our community and local artists.</span><br />\n&nbsp\;</div>\n\n<div><span dir="auto">Come join us for an evening of food &amp\; fun!</span></div>\n\n<div><span dir="auto">Date: April 11\, 2026<br />\nTime: 4pm-8pm<br />\nLocation: Sylva First United Methodist Church\, 77 Jackson St\, Sylva\, NC 28779<br />\nCost: $30.00</span></div>\n\n<div><span dir="auto">Raffle Tickets:<br />\nIf you&rsquo\;re planning on buying LOTS of tickets\, please bring stickers with your name and phone number on them\, or be prepared to write A LOT! (Grin)<br />\n&ndash\; 1 for $5.00<br />\n&ndash\; 3 for $10.00<br />\n&ndash\; 5 for $12.00<br />\n&ndash\; 10 for $15.00<br />\n&ndash\; 25 for $25.00</span>\n\n<div><span dir="auto">See less</span></div>\n</div>\n
LOCATION:First United Methodist Church 77 Jackson St Sylva\, NC 28779
UID:e.1140.72135
SEQUENCE:3
DTSTAMP:20260422T204818Z
URL:http://business.mountainlovers.com/events/details/empty-bowl-2026-fundraiser-for-community-table-72135
END:VEVENT

END:VCALENDAR
